BEGIN:VCALENDAR
VERSION:2.0
PRODID:-//VicWater - ECPv5.1.0//NONSGML v1.0//EN
CALSCALE:GREGORIAN
METHOD:PUBLISH
X-WR-CALNAME:VicWater
X-ORIGINAL-URL:https://vicwater.org.au
X-WR-CALDESC:Events for VicWater
BEGIN:VTIMEZONE
TZID:Australia/Melbourne
BEGIN:STANDARD
TZOFFSETFROM:+1100
TZOFFSETTO:+1000
TZNAME:AEST
DTSTART:20210403T160000
END:STANDARD
BEGIN:DAYLIGHT
TZOFFSETFROM:+1000
TZOFFSETTO:+1100
TZNAME:AEDT
DTSTART:20211002T160000
END:DAYLIGHT
END:VTIMEZONE
BEGIN:VEVENT
DTSTART;VALUE=DATE:20210204
DTEND;VALUE=DATE:20210205
DTSTAMP:20210228T174430
CREATED:20201016T011135Z
LAST-MODIFIED:20201016T011135Z
UID:3710-1612396800-1612483199@vicwater.org.au
SUMMARY:Rural MDs Forum
DESCRIPTION:Discussion points and any associated papers will be issued one week prior to the event. \n
URL:https://vicwater.org.au/event/rural-mds-forum-8/
LOCATION:ZOOM Meeting
CATEGORIES:MDs Forum
ATTACH;FMTTYPE=image/png:https://vicwater.org.au/wp-content/uploads/2019/11/rural-MDs-Forum-v2.png
ORGANIZER;CN="Jo%20Lim":MAILTO:jo.lim@vicwater.org.au
END:VEVENT
BEGIN:VEVENT
DTSTART;VALUE=DATE:20210204
DTEND;VALUE=DATE:20210205
DTSTAMP:20210228T174430
CREATED:20201016T012109Z
LAST-MODIFIED:20201016T012109Z
UID:3722-1612396800-1612483199@vicwater.org.au
SUMMARY:MDs Forum
DESCRIPTION:Discussion points and any associated papers will be issued one week prior to the event. \n
URL:https://vicwater.org.au/event/mds-forum-8/
LOCATION:ZOOM Meeting
CATEGORIES:MDs Forum
ATTACH;FMTTYPE=image/png:https://vicwater.org.au/wp-content/uploads/2019/11/MDs-Forum-v2.png
ORGANIZER;CN="Jo%20Lim":MAILTO:jo.lim@vicwater.org.au
END:VEVENT
END:VCALENDAR