BEGIN:VCALENDAR
VERSION:2.0
PRODID:-//VicWater - ECPv5.1.0//NONSGML v1.0//EN
CALSCALE:GREGORIAN
METHOD:PUBLISH
X-WR-CALNAME:VicWater
X-ORIGINAL-URL:https://vicwater.org.au
X-WR-CALDESC:Events for VicWater
BEGIN:VTIMEZONE
TZID:Australia/Melbourne
BEGIN:STANDARD
TZOFFSETFROM:+1100
TZOFFSETTO:+1000
TZNAME:AEST
DTSTART:20210403T160000
END:STANDARD
BEGIN:DAYLIGHT
TZOFFSETFROM:+1000
TZOFFSETTO:+1100
TZNAME:AEDT
DTSTART:20211002T160000
END:DAYLIGHT
END:VTIMEZONE
BEGIN:VEVENT
DTSTART;TZID=Australia/Melbourne:20210211T093000
DTEND;TZID=Australia/Melbourne:20210211T123000
DTSTAMP:20210228T174633
CREATED:20201016T012941Z
LAST-MODIFIED:20201016T020611Z
UID:3734-1613035800-1613046600@vicwater.org.au
SUMMARY:VicWater Board Meeting
DESCRIPTION:Board meetings have been scheduled on the second Thursday of every second month. Discussion points and any associated papers will be issued one week prior to the event. \n
URL:https://vicwater.org.au/event/vicwater-board-meeting-6/
LOCATION:ZOOM Meeting
CATEGORIES:Board Meeting
ATTACH;FMTTYPE=image/png:https://vicwater.org.au/wp-content/uploads/2019/11/Board-Meeting.png
ORGANIZER;CN="Jo%20Lim":MAILTO:jo.lim@vicwater.org.au
END:VEVENT
END:VCALENDAR